BEGIN:VCALENDAR
VERSION:2.0
PRODID:-//PflegeKraftWerk39 - ECPv6.15.18//NONSGML v1.0//EN
CALSCALE:GREGORIAN
METHOD:PUBLISH
X-ORIGINAL-URL:https://pflegekraftwerk39.at
X-WR-CALDESC:Veranstaltungen für PflegeKraftWerk39
REFRESH-INTERVAL;VALUE=DURATION:PT1H
X-Robots-Tag:noindex
X-PUBLISHED-TTL:PT1H
BEGIN:VTIMEZONE
TZID:Europe/Berlin
BEGIN:DAYLIGHT
TZOFFSETFROM:+0100
TZOFFSETTO:+0200
TZNAME:CEST
DTSTART:20250330T010000
END:DAYLIGHT
BEGIN:STANDARD
TZOFFSETFROM:+0200
TZOFFSETTO:+0100
TZNAME:CET
DTSTART:20251026T010000
END:STANDARD
BEGIN:DAYLIGHT
TZOFFSETFROM:+0100
TZOFFSETTO:+0200
TZNAME:CEST
DTSTART:20260329T010000
END:DAYLIGHT
BEGIN:STANDARD
TZOFFSETFROM:+0200
TZOFFSETTO:+0100
TZNAME:CET
DTSTART:20261025T010000
END:STANDARD
BEGIN:DAYLIGHT
TZOFFSETFROM:+0100
TZOFFSETTO:+0200
TZNAME:CEST
DTSTART:20270328T010000
END:DAYLIGHT
BEGIN:STANDARD
TZOFFSETFROM:+0200
TZOFFSETTO:+0100
TZNAME:CET
DTSTART:20271031T010000
END:STANDARD
END:VTIMEZONE
BEGIN:VEVENT
DTSTART;VALUE=DATE:20260202
DTEND;VALUE=DATE:20260203
DTSTAMP:20260420T184220
CREATED:20260113T073204Z
LAST-MODIFIED:20260206T102221Z
UID:6007-1769990400-1770076799@pflegekraftwerk39.at
SUMMARY:Gewaltprävention Workshop
DESCRIPTION:DATUM:\n05.02. 2026 \nUHRZEIT:\n8:30-13:00 Uhr \nTeilnahmegebühr: kostenlos \nANMELDUNG\nd.pukkinen@senecura.at\nbis spätestens 02.02.2026 \nOrt: SeneCura West gemeinnützige BetriebsGmbH – Sozialzentrum Eben\, Ebener Straße 106\, 6212 Maurach/Eben\nVeranstalter: SeneCura West gemeinnützige\, BetriebsGmbH – Sozialzentrum Eben
URL:https://pflegekraftwerk39.at/event/gewaltpraevention-workshop/
LOCATION:Senecura\, Ebener Straße 106\, Eben\, 6212
CATEGORIES:Weiterbildung
END:VEVENT
BEGIN:VEVENT
DTSTART;VALUE=DATE:20260218
DTEND;VALUE=DATE:20260228
DTSTAMP:20260420T184220
CREATED:20260112T170458Z
LAST-MODIFIED:20260112T172518Z
UID:5988-1771372800-1772236799@pflegekraftwerk39.at
SUMMARY:Kinaesthetics Grundkurs
DESCRIPTION:DATUM:\n18.02.\, 19.02 und 27.02.2026 \nUHRZEIT:\n8:00-17:00 Uhr \nREFERENT:\nMaurizio Pastorelli \nTeilnahmegebühr: kostenlos \nANMELDUNG\nonline -> m.frontull@silberhoamat.at\nAnmeldung bis spätestens 12.01.2026 \nOrt: Silberhoamat Weidachhof\, Weidach 4\, 6130 Schwaz\nVeranstalter: Silberhoamat
URL:https://pflegekraftwerk39.at/event/kinaesthetics-grundkurs-2/
LOCATION:Silberhoamat Weidachhof\, Weidach 4\, Schwaz\, 6130
CATEGORIES:Weiterbildung
END:VEVENT
BEGIN:VEVENT
DTSTART;TZID=Europe/Berlin:20260225T140000
DTEND;TZID=Europe/Berlin:20260225T153000
DTSTAMP:20260420T184220
CREATED:20260206T080941Z
LAST-MODIFIED:20260206T080941Z
UID:6043-1772028000-1772033400@pflegekraftwerk39.at
SUMMARY:Herzinsuffizienz: von der Symptomkontrolle bis zur Betreuung durch Herzmobil
DESCRIPTION:DATUM:\n25.02.2026 \nUHRZEIT:\n14:00 – 15:30 Uhr \nREFERENT:\nDGKP M. Kreidl\, Dr. M. Schwarzl \nTeilnahmegebühr:\nkostenlos \nANMELDUNG\nper Email an: pflegedirektion@kh-schwaz.at\nbis spätestens 23.02.2026 \nOrt: BKH Schwaz\, Speisesaal\nVeranstalter: BKH Schwaz
URL:https://pflegekraftwerk39.at/event/herzinsuffizienz-von-der-symptomkontrolle-bis-zur-betreuung-durch-herzmobil/
LOCATION:BKH Schwaz\, Swarovskistraße 1/3\, Schwaz\, 6130
CATEGORIES:Weiterbildung
END:VEVENT
BEGIN:VEVENT
DTSTART;TZID=Europe/Berlin:20260225T160000
DTEND;TZID=Europe/Berlin:20260225T170000
DTSTAMP:20260420T184220
CREATED:20260204T144355Z
LAST-MODIFIED:20260204T144355Z
UID:6041-1772035200-1772038800@pflegekraftwerk39.at
SUMMARY:QUINT
DESCRIPTION:DATUM:\n25.02.2026\nONLINE \nUHRZEIT:\n16:00 Uhr (1 Stunde) \nREFERENT:\nNicola Kruckenhauser \nTeilnahmegebühr:\nkostenlos \nANMELDUNG\nper Email an: info@pflegekraftwerk39.at \nbis spätestens 19.02.26\nZusage bis spätestens 20.02.26 \nOrt: ONLINE
URL:https://pflegekraftwerk39.at/event/quint/
CATEGORIES:Weiterbildung
ORGANIZER;CN="PflegeKraftWerk39":MAILTO:info@pflegekraftwerk39.at
END:VEVENT
END:VCALENDAR