BEGIN:VCALENDAR
VERSION:2.0
PRODID:-//PflegeKraftWerk39 - ECPv6.15.18//NONSGML v1.0//EN
CALSCALE:GREGORIAN
METHOD:PUBLISH
X-WR-CALNAME:PflegeKraftWerk39
X-ORIGINAL-URL:https://pflegekraftwerk39.at
X-WR-CALDESC:Veranstaltungen für PflegeKraftWerk39
REFRESH-INTERVAL;VALUE=DURATION:PT1H
X-Robots-Tag:noindex
X-PUBLISHED-TTL:PT1H
BEGIN:VTIMEZONE
TZID:Europe/Berlin
BEGIN:DAYLIGHT
TZOFFSETFROM:+0100
TZOFFSETTO:+0200
TZNAME:CEST
DTSTART:20250330T010000
END:DAYLIGHT
BEGIN:STANDARD
TZOFFSETFROM:+0200
TZOFFSETTO:+0100
TZNAME:CET
DTSTART:20251026T010000
END:STANDARD
BEGIN:DAYLIGHT
TZOFFSETFROM:+0100
TZOFFSETTO:+0200
TZNAME:CEST
DTSTART:20260329T010000
END:DAYLIGHT
BEGIN:STANDARD
TZOFFSETFROM:+0200
TZOFFSETTO:+0100
TZNAME:CET
DTSTART:20261025T010000
END:STANDARD
BEGIN:DAYLIGHT
TZOFFSETFROM:+0100
TZOFFSETTO:+0200
TZNAME:CEST
DTSTART:20270328T010000
END:DAYLIGHT
BEGIN:STANDARD
TZOFFSETFROM:+0200
TZOFFSETTO:+0100
TZNAME:CET
DTSTART:20271031T010000
END:STANDARD
END:VTIMEZONE
BEGIN:VEVENT
DTSTART;TZID=Europe/Berlin:20260429T080000
DTEND;TZID=Europe/Berlin:20260519T170000
DTSTAMP:20260420T173359
CREATED:20260123T092716Z
LAST-MODIFIED:20260206T102207Z
UID:6031-1777449600-1779210000@pflegekraftwerk39.at
SUMMARY:Kinaesthetics Aufbaukurs
DESCRIPTION:DATUM:\n29.04.26\n30.04.26\n19.05.26 \nUHRZEIT:\n8:00-17:00 Uhr \nREFERENT:\nMaurizio Pastorelli \nTeilnahmegebühr: € 40\,- für das Kursbuch\n3 freie Plätze \nANMELDUNG\nper Email an: m.frontull@silberhoamat.at\nbis spätestens 03.03.26 \nOrt: Silberhoamat Weidachhof\, Weidach 4\, 6130 Schwaz\nVeranstalter: Silberhoamat
URL:https://pflegekraftwerk39.at/event/kinaesthetics-aufbaukurs/
LOCATION:Silberhoamat Weidachhof\, Weidach 4\, Schwaz\, 6130
CATEGORIES:Weiterbildung
END:VEVENT
BEGIN:VEVENT
DTSTART;TZID=Europe/Berlin:20260507T090000
DTEND;TZID=Europe/Berlin:20260507T130000
DTSTAMP:20260420T173359
CREATED:20260206T100336Z
LAST-MODIFIED:20260206T101411Z
UID:6048-1778144400-1778158800@pflegekraftwerk39.at
SUMMARY:Zuckerschock im Gehirn- Theorie Praxis Workshop Diabetes
DESCRIPTION:DATUM:\n07.05.2026 \nUHRZEIT:\n09:00 – 13:00 Uhr \nREFERENT:\nDGKP M. Haun\, BScN; DGKP B. Salchner \nTeilnahmegebühr:\nEUR 47\,85\nRechnung nach TN\n \nANMELDUNG\nonline -> pflegedirektion@kh-schwaz.at\nAnmeldung bis 1. des Vormonats\nZusage bis 15. des Vormonats \nOrt: BKH Schwaz\, Multimediaraum\nVeranstalter: BKH Schwaz
URL:https://pflegekraftwerk39.at/event/zuckerschock-im-gehirn-theorie-praxis-workshop-diabetes/
LOCATION:BKH Schwaz\, Swarovskistraße 1/3\, Schwaz\, 6130
CATEGORIES:Weiterbildung
END:VEVENT
BEGIN:VEVENT
DTSTART;TZID=Europe/Berlin:20260520T140000
DTEND;TZID=Europe/Berlin:20260520T153000
DTSTAMP:20260420T173359
CREATED:20260206T100707Z
LAST-MODIFIED:20260206T100707Z
UID:6051-1779285600-1779291000@pflegekraftwerk39.at
SUMMARY:Kommunikation in schwierigen Situationen im beruflichen Alltag
DESCRIPTION:DATUM:\n20.05.2026 \nUHRZEIT:\n14:00 – 15:30 Uhr \nREFERENT:\nMag. C. Schidek \nTeilnahmegebühr:\nkostenlos \nANMELDUNG\nonline -> pflegedirektion@kh-schwaz.at\nAnmeldung bis 1. des Vormonats\nZusage bis 15. des Vormonats \nOrt: BKH Schwaz\, Speisesaal\nVeranstalter: BKH Schwaz
URL:https://pflegekraftwerk39.at/event/kommunikation-in-schwierigen-situationen-im-beruflichen-alltag/
CATEGORIES:Weiterbildung
END:VEVENT
END:VCALENDAR