BEGIN:VCALENDAR
VERSION:2.0
PRODID:-//PflegeKraftWerk39 - ECPv6.15.18//NONSGML v1.0//EN
CALSCALE:GREGORIAN
METHOD:PUBLISH
X-WR-CALNAME:PflegeKraftWerk39
X-ORIGINAL-URL:https://pflegekraftwerk39.at
X-WR-CALDESC:Veranstaltungen für PflegeKraftWerk39
REFRESH-INTERVAL;VALUE=DURATION:PT1H
X-Robots-Tag:noindex
X-PUBLISHED-TTL:PT1H
BEGIN:VTIMEZONE
TZID:Europe/Berlin
BEGIN:DAYLIGHT
TZOFFSETFROM:+0100
TZOFFSETTO:+0200
TZNAME:CEST
DTSTART:20250330T010000
END:DAYLIGHT
BEGIN:STANDARD
TZOFFSETFROM:+0200
TZOFFSETTO:+0100
TZNAME:CET
DTSTART:20251026T010000
END:STANDARD
BEGIN:DAYLIGHT
TZOFFSETFROM:+0100
TZOFFSETTO:+0200
TZNAME:CEST
DTSTART:20260329T010000
END:DAYLIGHT
BEGIN:STANDARD
TZOFFSETFROM:+0200
TZOFFSETTO:+0100
TZNAME:CET
DTSTART:20261025T010000
END:STANDARD
BEGIN:DAYLIGHT
TZOFFSETFROM:+0100
TZOFFSETTO:+0200
TZNAME:CEST
DTSTART:20270328T010000
END:DAYLIGHT
BEGIN:STANDARD
TZOFFSETFROM:+0200
TZOFFSETTO:+0100
TZNAME:CET
DTSTART:20271031T010000
END:STANDARD
END:VTIMEZONE
BEGIN:VEVENT
DTSTART;TZID=Europe/Berlin:20260601T090000
DTEND;TZID=Europe/Berlin:20260601T160000
DTSTAMP:20260420T185838
CREATED:20260206T102423Z
LAST-MODIFIED:20260206T102423Z
UID:6059-1780304400-1780329600@pflegekraftwerk39.at
SUMMARY:Grundlagen Wundmanagement
DESCRIPTION:DATUM:\n01.07.2026 \nUHRZEIT:\n09:00 – 16:00 Uhr \nREFERENT:\nDGKP D. Gspan\, BScN; DGKP P. Verra \nTeilnahmegebühr:\nEUR 61\,60\nRechnung nach TN\n \nANMELDUNG\nonline -> pflegedirektion@kh-schwaz.at\nAnmeldung bis 1. des Vormonats\nZusage bis 15. des Vormonats \nOrt: BKH Schwaz\, Konferenzraum 4. Stock\nVeranstalter: BKH Schwaz
URL:https://pflegekraftwerk39.at/event/grundlagen-wundmanagement/
LOCATION:BKH Schwaz\, Swarovskistraße 1/3\, Schwaz\, 6130
CATEGORIES:Weiterbildung
END:VEVENT
BEGIN:VEVENT
DTSTART;VALUE=DATE:20260611
DTEND;VALUE=DATE:20260612
DTSTAMP:20260420T185838
CREATED:20260226T083037Z
LAST-MODIFIED:20260226T083410Z
UID:6072-1781136000-1781222399@pflegekraftwerk39.at
SUMMARY:„Nicht Mini-Doktor“ sondern „Maxi-Nurse“ am Beispiel der Palliative Care
DESCRIPTION:DATUM:\n11.06.2026 \nUHRZEIT:\nab 17:00 Uhr \nREFERENT:\nDr. Monica C. Fliedner\, MSN \nTeilnahmegebühr:\n– \nANMELDUNG\nonline -> www.umit-tirol.at/pid-anmeldung \nOrt: UMIT TIROL\nVeranstalter: UMIT TIROL\nDie Veranstaltungen finden am Campus der Privatuniversität UMIT TIROL\, Eduard-Wallnöfer-Zentrum 1\, 6060 Hall in Tirol statt.
URL:https://pflegekraftwerk39.at/event/nicht-mini-doktor-sondern-maxi-nurse-am-beispiel-der-palliative-care/
LOCATION:UMIT TIROL\, Eduard-Wallnöfer-Zentrum 1\, Hall in Tirol\, 6060
END:VEVENT
BEGIN:VEVENT
DTSTART;TZID=Europe/Berlin:20260616T080000
DTEND;TZID=Europe/Berlin:20260616T150000
DTSTAMP:20260420T185838
CREATED:20260206T100906Z
LAST-MODIFIED:20260206T102151Z
UID:6053-1781596800-1781622000@pflegekraftwerk39.at
SUMMARY:Grundlagen Komplementäre Pflege
DESCRIPTION:DATUM:\n16.06.2026 \nUHRZEIT:\n09:00 – 15:00 Uhr \nREFERENT:\nDGKP M. Stangl; DGKP J. Plattner-Chessel \nTeilnahmegebühr:\nEUR 52\,80\nRechnung nach TN\n \nANMELDUNG\nonline -> pflegedirektion@kh-schwaz.at\nAnmeldung bis 1. des Vormonats\nZusage bis 15. des Vormonats \nOrt: BKH Schwaz\, Konferenzraum 4. Stock\nVeranstalter: BKH Schwaz
URL:https://pflegekraftwerk39.at/event/grundlagen-komplementaere-pflege/
LOCATION:BKH Schwaz\, Swarovskistraße 1/3\, Schwaz\, 6130
CATEGORIES:Weiterbildung
END:VEVENT
END:VCALENDAR