BEGIN:VCALENDAR
VERSION:2.0
PRODID:-//PflegeKraftWerk39 - ECPv6.15.18//NONSGML v1.0//EN
CALSCALE:GREGORIAN
METHOD:PUBLISH
X-WR-CALNAME:PflegeKraftWerk39
X-ORIGINAL-URL:https://pflegekraftwerk39.at
X-WR-CALDESC:Veranstaltungen für PflegeKraftWerk39
REFRESH-INTERVAL;VALUE=DURATION:PT1H
X-Robots-Tag:noindex
X-PUBLISHED-TTL:PT1H
BEGIN:VTIMEZONE
TZID:Europe/Berlin
BEGIN:DAYLIGHT
TZOFFSETFROM:+0100
TZOFFSETTO:+0200
TZNAME:CEST
DTSTART:20250330T010000
END:DAYLIGHT
BEGIN:STANDARD
TZOFFSETFROM:+0200
TZOFFSETTO:+0100
TZNAME:CET
DTSTART:20251026T010000
END:STANDARD
BEGIN:DAYLIGHT
TZOFFSETFROM:+0100
TZOFFSETTO:+0200
TZNAME:CEST
DTSTART:20260329T010000
END:DAYLIGHT
BEGIN:STANDARD
TZOFFSETFROM:+0200
TZOFFSETTO:+0100
TZNAME:CET
DTSTART:20261025T010000
END:STANDARD
BEGIN:DAYLIGHT
TZOFFSETFROM:+0100
TZOFFSETTO:+0200
TZNAME:CEST
DTSTART:20270328T010000
END:DAYLIGHT
BEGIN:STANDARD
TZOFFSETFROM:+0200
TZOFFSETTO:+0100
TZNAME:CET
DTSTART:20271031T010000
END:STANDARD
END:VTIMEZONE
BEGIN:VEVENT
DTSTART;VALUE=DATE:20261119
DTEND;VALUE=DATE:20261120
DTSTAMP:20260421T021646
CREATED:20260226T083228Z
LAST-MODIFIED:20260226T083228Z
UID:6074-1795046400-1795132799@pflegekraftwerk39.at
SUMMARY:Mobile Pflege und Betreuung
DESCRIPTION:DATUM:\n19.11.2026 \nUHRZEIT:\nab 17:00 Uhr \nREFERENT:\nManuela Pfohl\, BSc MSc \nTeilnahmegebühr:\n– \nANMELDUNG\nonline -> www.umit-tirol.at/pid-anmeldung \nOrt: UMIT TIROL\nVeranstalter: UMIT TIROL\nDie Veranstaltungen finden am Campus der Privatuniversität UMIT TIROL\, Eduard-Wallnöfer-Zentrum 1\, 6060 Hall in Tirol statt.
URL:https://pflegekraftwerk39.at/event/mobile-pflege-und-betreuung/
LOCATION:UMIT TIROL\, Eduard-Wallnöfer-Zentrum 1\, Hall in Tirol\, 6060
END:VEVENT
BEGIN:VEVENT
DTSTART;TZID=Europe/Berlin:20261126T090000
DTEND;TZID=Europe/Berlin:20261126T130000
DTSTAMP:20260421T021646
CREATED:20260206T102709Z
LAST-MODIFIED:20260206T102709Z
UID:6061-1795683600-1795698000@pflegekraftwerk39.at
SUMMARY:Zuckerschock im Gehirn- Theorie Praxis Workshop Diabetes
DESCRIPTION:DATUM:\n26.11.2026 \nUHRZEIT:\n09:00 – 13:00 Uhr \nREFERENT:\nDGKP B. Steger; DGKP L. Oberhollenzer\, MScN \nTeilnahmegebühr:\nEUR 47\,85\nRechnung nach TN\n \nANMELDUNG\nonline -> pflegedirektion@kh-schwaz.at\nAnmeldung bis 1. des Vormonats\nZusage bis 15. des Vormonats \nOrt: BKH Schwaz\, Multimediaraum\nVeranstalter: BKH Schwaz
URL:https://pflegekraftwerk39.at/event/zuckerschock-im-gehirn-theorie-praxis-workshop-diabetes-2/
LOCATION:BKH Schwaz\, Swarovskistraße 1/3\, Schwaz\, 6130
END:VEVENT
END:VCALENDAR