BEGIN:VCALENDAR
VERSION:2.0
PRODID:-//PflegeKraftWerk39 - ECPv6.15.18//NONSGML v1.0//EN
CALSCALE:GREGORIAN
METHOD:PUBLISH
X-WR-CALNAME:PflegeKraftWerk39
X-ORIGINAL-URL:https://pflegekraftwerk39.at
X-WR-CALDESC:Veranstaltungen für PflegeKraftWerk39
REFRESH-INTERVAL;VALUE=DURATION:PT1H
X-Robots-Tag:noindex
X-PUBLISHED-TTL:PT1H
BEGIN:VTIMEZONE
TZID:Europe/Berlin
BEGIN:DAYLIGHT
TZOFFSETFROM:+0100
TZOFFSETTO:+0200
TZNAME:CEST
DTSTART:20250330T010000
END:DAYLIGHT
BEGIN:STANDARD
TZOFFSETFROM:+0200
TZOFFSETTO:+0100
TZNAME:CET
DTSTART:20251026T010000
END:STANDARD
BEGIN:DAYLIGHT
TZOFFSETFROM:+0100
TZOFFSETTO:+0200
TZNAME:CEST
DTSTART:20260329T010000
END:DAYLIGHT
BEGIN:STANDARD
TZOFFSETFROM:+0200
TZOFFSETTO:+0100
TZNAME:CET
DTSTART:20261025T010000
END:STANDARD
BEGIN:DAYLIGHT
TZOFFSETFROM:+0100
TZOFFSETTO:+0200
TZNAME:CEST
DTSTART:20270328T010000
END:DAYLIGHT
BEGIN:STANDARD
TZOFFSETFROM:+0200
TZOFFSETTO:+0100
TZNAME:CET
DTSTART:20271031T010000
END:STANDARD
END:VTIMEZONE
BEGIN:VEVENT
DTSTART;TZID=Europe/Berlin:20260421T140000
DTEND;TZID=Europe/Berlin:20260421T153000
DTSTAMP:20260420T160344
CREATED:20260417T092954Z
LAST-MODIFIED:20260417T093015Z
UID:6089-1776780000-1776785400@pflegekraftwerk39.at
SUMMARY:Last Minute: Fortbildung für das Onboarding internationaler Pflegekräfte
DESCRIPTION:Wenn Integration gelingt\, profitieren alle. Professionelles Onboarding stärkt Motivation\, Bindung und Pflegequalität.\nIn dieser Fortbildung erhalten Interessierte praxisnahe Tools für den erfolgreichen Start internationaler Pflegefachkräfte. \n\nDATUM:\nDienstag\, 21.04.2026 \nUHRZEIT:\n14:00–15:30 \nREFERENT:\nDr. German Quernheim \nTeilnahmegebühr: € 22\,– inkl. Ust. \nANMELDUNG\nJetzt anmelden: pflegedirektion@kh-schwaz.at \nOrt: Präsenz im Bezirkskrankenhaus Schwaz oder online\nhttps://www.kh-schwaz.at/
URL:https://pflegekraftwerk39.at/event/last-minute-fortbildung-fuer-das-onboarding-internationaler-pflegekraefte/
LOCATION:BKH Schwaz\, Swarovskistraße 1/3\, Schwaz\, 6130
END:VEVENT
BEGIN:VEVENT
DTSTART;TZID=Europe/Berlin:20260429T080000
DTEND;TZID=Europe/Berlin:20260519T170000
DTSTAMP:20260420T160344
CREATED:20260123T092716Z
LAST-MODIFIED:20260206T102207Z
UID:6031-1777449600-1779210000@pflegekraftwerk39.at
SUMMARY:Kinaesthetics Aufbaukurs
DESCRIPTION:DATUM:\n29.04.26\n30.04.26\n19.05.26 \nUHRZEIT:\n8:00-17:00 Uhr \nREFERENT:\nMaurizio Pastorelli \nTeilnahmegebühr: € 40\,- für das Kursbuch\n3 freie Plätze \nANMELDUNG\nper Email an: m.frontull@silberhoamat.at\nbis spätestens 03.03.26 \nOrt: Silberhoamat Weidachhof\, Weidach 4\, 6130 Schwaz\nVeranstalter: Silberhoamat
URL:https://pflegekraftwerk39.at/event/kinaesthetics-aufbaukurs/
LOCATION:Silberhoamat Weidachhof\, Weidach 4\, Schwaz\, 6130
CATEGORIES:Weiterbildung
END:VEVENT
END:VCALENDAR